Workbook

Sheet 入力
A2: 46279 | B2: ← 見積 日付 | F2: 見積の日付は、請求日が、 2～14日は1日、 15～25日は14日、 26～翌1日の納品は避ける
A4: 令和 8 年 9 月 23 日 | B4: ← 納品・請求 日付
A6: ↓書誌名 貼り付け | B6: ↓金額入力
A7: Excel請求テスト書籍A | B7: 1100
A8: Excel請求テスト書籍A | B8: 1100
A9: Excel請求テスト書籍B | B9: 2200

Sheet 見積納品請求
A1: 見積書
F2: =IF(入力!A2<>"",入力!A2,"")
A3: 有明工業高等専門学校 様 | F3: 有限会社 森松尚文堂
F4: 代表取締役 森松 征太郎
F5: 大牟田市上官町2丁目１２の５
F6: TEL 52-2216 FAX 52-1266
F7: 登録番号 T7290002055882
A8: 下記のとおり見積り申し上げます | F8: 福岡銀行 大牟田支店 当座預金 １０３２４ 有限会社森松尚文堂 代表取締役森松征太郎
A10: 税込合計金額 | C10: =IF(H37<>"",H37,"")
A11: 品 名 ［販売日・書名・号・税込定価］ | C11: 数量 | D11: 単位 | E11: 税率 | F11: 本体定価 | G11: 納入単価（税抜） | H11: 納入金額（税込）
A12: 1 | B12: =IF(入力!A7<>"",入力!A7,"") | C12: =IF(B12<>"",1,"") | D12: 冊 | E12: =IF(D12<>"","10％","") | F12: =IF(入力!B7<>"",ROUND(入力!B7/1.1,0),"") | G12: =IF(C12<>"",INT(F12*0.93),"") | H12: =IF(C12<>"",INT(G12*1.1)*C12,"")
A13: 2 | B13: =IF(入力!A8<>"",入力!A8,"") | C13: =IF(B13<>"",1,"") | D13: =IF(C13<>"","〃","") | E13: =IF(D13<>"","10％","") | F13: =IF(入力!B8<>"",ROUND(入力!B8/1.1,0),"") | G13: =IF(C13<>"",INT(F13*0.93),"") | H13: =IF(C13<>"",INT(G13*1.1)*C13,"") | I13: =IF(K21<>"",K21*L21,"")
A14: 3 | B14: =IF(入力!A9<>"",入力!A9,"") | C14: =IF(B14<>"",1,"") | D14: =IF(C14<>"","〃","") | E14: =IF(D14<>"","10％","") | F14: =IF(入力!B9<>"",ROUND(入力!B9/1.1,0),"") | G14: =IF(C14<>"",INT(F14*0.93),"") | H14: =IF(C14<>"",INT(G14*1.1)*C14,"")
A15: 4 | B15: =IF(入力!A10<>"",入力!A10,"") | C15: =IF(B15<>"",1,"") | D15: =IF(C15<>"","〃","") | E15: =IF(D15<>"","10％","") | F15: =IF(入力!B10<>"",ROUND(入力!B10/1.1,0),"") | G15: =IF(C15<>"",INT(F15*0.93),"") | H15: =IF(C15<>"",INT(G15*1.1)*C15,"")
A16: 5 | B16: =IF(入力!A11<>"",入力!A11,"") | C16: =IF(B16<>"",1,"") | D16: =IF(C16<>"","〃","") | E16: =IF(D16<>"","10％","") | F16: =IF(入力!B11<>"",ROUND(入力!B11/1.1,0),"") | G16: =IF(C16<>"",INT(F16*0.93),"") | H16: =IF(C16<>"",INT(G16*1.1)*C16,"")
A17: 6 | B17: =IF(入力!A12<>"",入力!A12,"") | C17: =IF(B17<>"",1,"") | D17: =IF(C17<>"","〃","") | E17: =IF(D17<>"","10％","") | F17: =IF(入力!B12<>"",ROUND(入力!B12/1.1,0),"") | G17: =IF(C17<>"",INT(F17*0.93),"") | H17: =IF(C17<>"",INT(G17*1.1)*C17,"")
A18: 7 | B18: =IF(入力!A13<>"",入力!A13,"") | C18: =IF(B18<>"",1,"") | D18: =IF(C18<>"","〃","") | E18: =IF(D18<>"","10％","") | F18: =IF(入力!B13<>"",ROUND(入力!B13/1.1,0),"") | G18: =IF(C18<>"",INT(F18*0.93),"") | H18: =IF(C18<>"",INT(G18*1.1)*C18,"")
A19: 8 | B19: =IF(入力!A14<>"",入力!A14,"") | C19: =IF(B19<>"",1,"") | D19: =IF(C19<>"","〃","") | E19: =IF(D19<>"","10％","") | F19: =IF(入力!B14<>"",ROUND(入力!B14/1.1,0),"") | G19: =IF(C19<>"",INT(F19*0.93),"") | H19: =IF(C19<>"",INT(G19*1.1)*C19,"")
A20: 9 | B20: =IF(入力!A15<>"",入力!A15,"") | C20: =IF(B20<>"",1,"") | D20: =IF(C20<>"","〃","") | E20: =IF(D20<>"","10％","") | F20: =IF(入力!B15<>"",ROUND(入力!B15/1.1,0),"") | G20: =IF(C20<>"",INT(F20*0.93),"") | H20: =IF(C20<>"",INT(G20*1.1)*C20,"")
A21: 10 | B21: =IF(入力!A16<>"",入力!A16,"") | C21: =IF(B21<>"",1,"") | D21: =IF(C21<>"","〃","") | E21: =IF(D21<>"","10％","") | F21: =IF(入力!B16<>"",ROUND(入力!B16/1.1,0),"") | G21: =IF(C21<>"",INT(F21*0.93),"") | H21: =IF(C21<>"",INT(G21*1.1)*C21,"")
A22: 11 | B22: =IF(入力!A17<>"",入力!A17,"") | C22: =IF(B22<>"",1,"") | D22: =IF(C22<>"","〃","") | E22: =IF(D22<>"","10％","") | F22: =IF(入力!B17<>"",ROUND(入力!B17/1.1,0),"") | G22: =IF(C22<>"",INT(F22*0.93),"") | H22: =IF(C22<>"",INT(G22*1.1)*C22,"")
A23: 12 | B23: =IF(入力!A18<>"",入力!A18,"") | C23: =IF(B23<>"",1,"") | D23: =IF(C23<>"","〃","") | E23: =IF(D23<>"","10％","") | F23: =IF(入力!B18<>"",ROUND(入力!B18/1.1,0),"") | G23: =IF(C23<>"",INT(F23*0.93),"") | H23: =IF(C23<>"",INT(G23*1.1)*C23,"")
A24: 13 | B24: =IF(入力!A19<>"",入力!A19,"") | C24: =IF(B24<>"",1,"") | D24: =IF(C24<>"","〃","") | E24: =IF(D24<>"","10％","") | F24: =IF(入力!B19<>"",ROUND(入力!B19/1.1,0),"") | G24: =IF(C24<>"",INT(F24*0.93),"") | H24: =IF(C24<>"",INT(G24*1.1)*C24,"")
A25: 14 | B25: =IF(入力!A20<>"",入力!A20,"") | C25: =IF(B25<>"",1,"") | D25: =IF(C25<>"","〃","") | E25: =IF(D25<>"","10％","") | F25: =IF(入力!B20<>"",ROUND(入力!B20/1.1,0),"") | G25: =IF(C25<>"",INT(F25*0.93),"") | H25: =IF(C25<>"",INT(G25*1.1)*C25,"")
... A36: 25 | B36: =IF(入力!A31<>"",入力!A31,"") | C36: =IF(B36<>"",1,"") | D36: =IF(C36<>"","〃","") | E36: =IF(D36<>"","10％","") | F36: =IF(入力!B31<>"",ROUND(入力!B31/1.1,0),"") | G36: =IF(C36<>"",INT(F36*0.93),"") | H36: =IF(C36<>"",INT(G36*1.1)*C36,"")
C37: =SUM(C12:C36) | D37: =D12 | E37: 合計 | H37: =SUM(H12:H36)
C38: 税率 区分 | E38: 10％対象 | G38: =SUMIF(E11:E36, 10%, H11:H36) | H38: =G38*10/110
E39: ※ 8％対象 | G39: =SUMIF(E12:E36, 8%, H12:H36) | H39: =G39*10/110
A40: 納品書
F41: =IF(入力!A4<>"",入力!A4,"")
A42: =$A$3 | F42: 有限会社 森松尚文堂
F43: 代表取締役 森松 征太郎
F44: 大牟田市上官町2丁目１２の５
F45: TEL 52-2216 FAX 52-1266
F46: 登録番号 T7290002055882
A47: 下記のとおり納品申し上げます | F47: 福岡銀行 大牟田支店 当座預金 １０３２４ 有限会社森松尚文堂 代表取締役森松征太郎
A49: 税込合計金額 | C49: =C10
A50: 品 名 ［販売日・書名・号・税込定価］ | C50: 数量 | D50: 単位 | E50: 税率 | F50: 本体定価 | G50: 納入単価（税抜） | H50: 納入金額（税込）
A51: 1 | B51: =IF(B12<>"",B12,"") | C51: =IF(C12<>"",C12,"") | D51: 冊 | E51: =IF(D51<>"","10％","") | F51: =IF(F12<>"",F12,"") | G51: =IF(G12<>"",G12,"") | H51: =IF(H12<>"",H12,"")
A52: 2 | B52: =IF(B13<>"",B13,"") | C52: =IF(C13<>"",C13,"") | D52: =IF(C52<>"","〃","") | E52: =IF(D52<>"","10％","") | F52: =IF(F13<>"",F13,"") | G52: =IF(G13<>"",G13,"") | H52: =IF(H13<>"",H13,"") | I52: =IF(K60<>"",K60*L60,"")
...
